BEGIN:VCALENDAR
VERSION:2.0
PRODID:-//92.5 the River - ECPv5.16.3.1//NONSGML v1.0//EN
CALSCALE:GREGORIAN
METHOD:PUBLISH
X-WR-CALNAME:92.5 the River
X-ORIGINAL-URL:https://theriverboston.com
X-WR-CALDESC:Events for 92.5 the River
BEGIN:VTIMEZONE
TZID:America/New_York
BEGIN:DAYLIGHT
TZOFFSETFROM:-0500
TZOFFSETTO:-0400
TZNAME:EDT
DTSTART:20250309T070000
END:DAYLIGHT
BEGIN:STANDARD
TZOFFSETFROM:-0400
TZOFFSETTO:-0500
TZNAME:EST
DTSTART:20251102T060000
END:STANDARD
END:VTIMEZONE
BEGIN:VEVENT
DTSTART;TZID=America/New_York:20250708T190000
DTEND;TZID=America/New_York:20250708T190000
DTSTAMP:20260419T101222
CREATED:20250529T171750Z
LAST-MODIFIED:20250529T171750Z
UID:227546-1752001200-1752001200@theriverboston.com
SUMMARY:Barenaked Ladies @ Tanglewood
DESCRIPTION:Barenaked Ladies | Tuesday\, July 8th \nShow: 7 pm \nBarenaked Ladies are bringing their talents to Tanglewood this July!  The Barenaked Ladies started the Last Summer on Earth tour in 2012 when the Mayan calendar predicted the end of the world\, and it is now back by popular demand.  Join BNL for a night full of classic hits such as “Pinch Me” and “If I Had $1\,000\,000” along with their friends Sugar Ray and Fastball!  You won’t want to miss these Canadian Music Hall of Famers while they are in Massachusetts! \nGet tickets here!
URL:https://theriverboston.com/events/bnl-tanglewood/
LOCATION:Tanglewood\, 297 West St\, Lenox\, Lenox\, MA\, 01240\, United States
END:VEVENT
END:VCALENDAR