BEGIN:VCALENDAR
VERSION:2.0
PRODID:-//92.5 the River - ECPv5.16.3.1//NONSGML v1.0//EN
CALSCALE:GREGORIAN
METHOD:PUBLISH
X-WR-CALNAME:92.5 the River
X-ORIGINAL-URL:https://theriverboston.com
X-WR-CALDESC:Events for 92.5 the River
BEGIN:VTIMEZONE
TZID:America/New_York
BEGIN:DAYLIGHT
TZOFFSETFROM:-0500
TZOFFSETTO:-0400
TZNAME:EDT
DTSTART:20200308T070000
END:DAYLIGHT
BEGIN:STANDARD
TZOFFSETFROM:-0400
TZOFFSETTO:-0500
TZNAME:EST
DTSTART:20201101T060000
END:STANDARD
END:VTIMEZONE
BEGIN:VEVENT
DTSTART;TZID=America/New_York:20200301T150000
DTEND;TZID=America/New_York:20200301T150000
DTSTAMP:20260422T120701
CREATED:20200207T212631Z
LAST-MODIFIED:20200207T212631Z
UID:211801-1583074800-1583074800@theriverboston.com
SUMMARY:Bobby McFerrin at Symphony Hall
DESCRIPTION:Celebrity Series of Boston Presents: Bobby McFerrin\nBUY TICKETS\nThe ten-time Grammy-winning vocalist has blurred the distinction between pop music and fine art\, goofing around barefoot in the world’s finest concert halls\, exploring uncharted vocal territory\, inspiring a new generation of acappella singers and even the beatbox movement. READ MORE
URL:https://theriverboston.com/events/bobby-mcferrin-at-symphony-hall/
LOCATION:Symphony Hall\, 301 Massachusetts Ave\, Boston\, MA\, 02115\, United States
END:VEVENT
END:VCALENDAR