BEGIN:VCALENDAR
VERSION:2.0
PRODID:-//92.5 the River - ECPv5.16.3.1//NONSGML v1.0//EN
CALSCALE:GREGORIAN
METHOD:PUBLISH
X-WR-CALNAME:92.5 the River
X-ORIGINAL-URL:https://theriverboston.com
X-WR-CALDESC:Events for 92.5 the River
BEGIN:VTIMEZONE
TZID:America/New_York
BEGIN:DAYLIGHT
TZOFFSETFROM:-0500
TZOFFSETTO:-0400
TZNAME:EDT
DTSTART:20200308T070000
END:DAYLIGHT
BEGIN:STANDARD
TZOFFSETFROM:-0400
TZOFFSETTO:-0500
TZNAME:EST
DTSTART:20201101T060000
END:STANDARD
END:VTIMEZONE
BEGIN:VEVENT
DTSTART;TZID=America/New_York:20200229T200000
DTEND;TZID=America/New_York:20200229T230000
DTSTAMP:20260422T133015
CREATED:20190729T160328Z
LAST-MODIFIED:20190729T160328Z
UID:209961-1583006400-1583017200@theriverboston.com
SUMMARY:Bobby McFerrin Is Coming To The Music Hall In Portsmouth!
DESCRIPTION:Saturday\, February 29th\, ten-time Grammy Award winning jazz vocalist Bobby McFerrin will be showcasing his talents at the Music Hall in Portsmouth! \nThe Manhattan native is known for his unique vocal techniques\, which include scat singing\, polyphonic overtone singing\, and improvisational vocal percussion. He frequently collaborates with other artists from both the jazz and classical scenes\, but is widely known for performing and recording regularly as an unaccompanied solo vocal artist. McFerrin followed up his No. 1 U.S. pop hit “Don’t Worry\, Be Happy” in 1988 by claiming Song of the Year and Record of the Year honors at the 1989 Grammy Awards. \nOnce August 17th rolls around you’ll have the chance to grab your very own tickets (starting at $48 a piece)! You won’t want to miss this! \n“Bobby McFerrin’s greatest gift to his audience may be changing them from spectators into celebrants\, transforming a concert hall into a playground\, a village center\, a joyous space.” — Los Angeles Times
URL:https://theriverboston.com/events/bobby-mcferrin-is-coming-to-the-music-hall-in-portsmouth/
LOCATION:Music Hall in Portsmouth\, 28 Chestnut Street\, Portsmouth\, NH\, 03801\, United States
END:VEVENT
END:VCALENDAR