BEGIN:VCALENDAR
VERSION:2.0
PRODID:-//92.5 the River - ECPv5.16.3.1//NONSGML v1.0//EN
CALSCALE:GREGORIAN
METHOD:PUBLISH
X-WR-CALNAME:92.5 the River
X-ORIGINAL-URL:https://theriverboston.com
X-WR-CALDESC:Events for 92.5 the River
BEGIN:VTIMEZONE
TZID:America/New_York
BEGIN:DAYLIGHT
TZOFFSETFROM:-0500
TZOFFSETTO:-0400
TZNAME:EDT
DTSTART:20180311T070000
END:DAYLIGHT
BEGIN:STANDARD
TZOFFSETFROM:-0400
TZOFFSETTO:-0500
TZNAME:EST
DTSTART:20181104T060000
END:STANDARD
END:VTIMEZONE
BEGIN:VEVENT
DTSTART;TZID=America/New_York:20181027T120000
DTEND;TZID=America/New_York:20181027T140000
DTSTAMP:20260421T011819
CREATED:20181022T191204Z
LAST-MODIFIED:20181022T191204Z
UID:203628-1540641600-1540648800@theriverboston.com
SUMMARY:Bonneville's Trunk or Treat!
DESCRIPTION:Head to Bonneville and Son’s this Saturday for their annual “Trunk or Treat” event! There will be plenty of deals that are sure to be a treat for all\, but don’t forget to bring costumes! There will be candy and fun for all ages! The River Street Team will be there from 12:00 PM to 2:00 PM to give away fun prizes and share in the festivities!
URL:https://theriverboston.com/events/bonnevilles-trunk-or-treat/
LOCATION:Bonneville and Son Chrysler Dodge Jeep Ram\, 625 Hooksett Road\, Manchester\, NH\, 03104\, United States
END:VEVENT
END:VCALENDAR