BEGIN:VCALENDAR
VERSION:2.0
PRODID:-//92.5 the River - ECPv5.16.3.1//NONSGML v1.0//EN
CALSCALE:GREGORIAN
METHOD:PUBLISH
X-WR-CALNAME:92.5 the River
X-ORIGINAL-URL:https://theriverboston.com
X-WR-CALDESC:Events for 92.5 the River
BEGIN:VTIMEZONE
TZID:America/New_York
BEGIN:DAYLIGHT
TZOFFSETFROM:-0500
TZOFFSETTO:-0400
TZNAME:EDT
DTSTART:20200308T070000
END:DAYLIGHT
BEGIN:STANDARD
TZOFFSETFROM:-0400
TZOFFSETTO:-0500
TZNAME:EST
DTSTART:20201101T060000
END:STANDARD
END:VTIMEZONE
BEGIN:VEVENT
DTSTART;TZID=America/New_York:20200517T120000
DTEND;TZID=America/New_York:20200517T150000
DTSTAMP:20260419T183346
CREATED:20200423T155416Z
LAST-MODIFIED:20200423T155416Z
UID:212328-1589716800-1589727600@theriverboston.com
SUMMARY:Boston Brain Tumor Virtual Ride 2020
DESCRIPTION:The 26th Annual Boston Brain Tumor Ride will be virtual this year. It will be held on May 17th at 12PM on Facebook Live to share research updates and celebrate the New England Brain Tumor Community. Registration fees include a personal fundraising page and an NBTS event t-shirt. There are only 3 steps to the virtual ride: complete the ride either using a stationery bike inside or\, if possible and deemed safe by local law\, ride outside. Design the t-shirts\, create signs\, decorate the house and post all of the successes on social media using the hashtag #BBTR2020 #WhyWeRide or #GearUpForACure. \nThe National Brain Tumor Society’s top priority is the health of the brain tumor community. They will not let the coronavirus stop them from pursuing their vision of curing brain tumors. Click here to register and for more information!
URL:https://theriverboston.com/events/boston-brain-tumor-virtual-ride-2020/
END:VEVENT
END:VCALENDAR