BEGIN:VCALENDAR
VERSION:2.0
PRODID:-//92.5 the River - ECPv5.16.3.1//NONSGML v1.0//EN
CALSCALE:GREGORIAN
METHOD:PUBLISH
X-WR-CALNAME:92.5 the River
X-ORIGINAL-URL:https://theriverboston.com
X-WR-CALDESC:Events for 92.5 the River
BEGIN:VTIMEZONE
TZID:America/New_York
BEGIN:DAYLIGHT
TZOFFSETFROM:-0500
TZOFFSETTO:-0400
TZNAME:EDT
DTSTART:20180311T070000
END:DAYLIGHT
BEGIN:STANDARD
TZOFFSETFROM:-0400
TZOFFSETTO:-0500
TZNAME:EST
DTSTART:20181104T060000
END:STANDARD
END:VTIMEZONE
BEGIN:VEVENT
DTSTART;VALUE=DATE:20181021
DTEND;VALUE=DATE:20181022
DTSTAMP:20260421T071547
CREATED:20180726T174959Z
LAST-MODIFIED:20180726T174959Z
UID:108999-1540080000-1540166399@theriverboston.com
SUMMARY:Boston Brain Tumor Walk
DESCRIPTION:Participate in the Boston Brain Tumor Walk Sunday\, October 21 in Dorchester! \n\n\nWalk Registration & Check-In: opens at 8:30 AM\nWalk Start Time: 10:00 AM SHARP!\nDistance: 5K (3.1 miles) Walk\nRegistration Fee: $25\, children 18 and under are free\n\nDay of event registration is $35\n\n\n\nThis is a Rain or Shine Event! \nThe River roadies will be onsite handing out awesome prizes and playing music! \n 
URL:https://theriverboston.com/events/boston-brain-tumor-walk/
LOCATION:DCR Mother’s Rest at Carson Beach\, 180 Mt. Vernon Street\, Dorchester\, MA\, 02125\, United States
END:VEVENT
END:VCALENDAR