BEGIN:VCALENDAR
VERSION:2.0
PRODID:-//92.5 the River - ECPv5.16.3.1//NONSGML v1.0//EN
CALSCALE:GREGORIAN
METHOD:PUBLISH
X-WR-CALNAME:92.5 the River
X-ORIGINAL-URL:https://theriverboston.com
X-WR-CALDESC:Events for 92.5 the River
BEGIN:VTIMEZONE
TZID:America/New_York
BEGIN:DAYLIGHT
TZOFFSETFROM:-0500
TZOFFSETTO:-0400
TZNAME:EDT
DTSTART:20200308T070000
END:DAYLIGHT
BEGIN:STANDARD
TZOFFSETFROM:-0400
TZOFFSETTO:-0500
TZNAME:EST
DTSTART:20201101T060000
END:STANDARD
END:VTIMEZONE
BEGIN:VEVENT
DTSTART;VALUE=DATE:20200522
DTEND;VALUE=DATE:20200523
DTSTAMP:20260419T112824
CREATED:20191113T192506Z
LAST-MODIFIED:20200228T153055Z
UID:211083-1590105600-1590191999@theriverboston.com
SUMMARY:Boston Calling 2020
DESCRIPTION:Don’t miss one of the best shows of the year or the opportunity to see some of your favorite artists all in one place! \nThis year’s festival will be at the Harvard Athletic Complex and will include 60+ performers and 5 stages. \nRiver Artists Performing 5/22: Foo Fighters\, Jason Isbell and the 400 Unit\, Brittany Howard\, and The Struts \nEnjoy beverages from their partners: Samuel Adams\, Honest\, Red Bull\, Barefoot\, and more! \nTickets are on sale for General Admission\, VIP\, and Platinum. \nFor more information\, go to https://bostoncalling.com/.
URL:https://theriverboston.com/events/boston-calling-2020/
LOCATION:Harvard Athletic Complex\, Allston\, Massachusetts\, United States
END:VEVENT
END:VCALENDAR