BEGIN:VCALENDAR
VERSION:2.0
PRODID:-//92.5 the River - ECPv5.16.3.1//NONSGML v1.0//EN
CALSCALE:GREGORIAN
METHOD:PUBLISH
X-WR-CALNAME:92.5 the River
X-ORIGINAL-URL:https://theriverboston.com
X-WR-CALDESC:Events for 92.5 the River
BEGIN:VTIMEZONE
TZID:America/New_York
BEGIN:DAYLIGHT
TZOFFSETFROM:-0500
TZOFFSETTO:-0400
TZNAME:EDT
DTSTART:20180311T070000
END:DAYLIGHT
BEGIN:STANDARD
TZOFFSETFROM:-0400
TZOFFSETTO:-0500
TZNAME:EST
DTSTART:20181104T060000
END:STANDARD
END:VTIMEZONE
BEGIN:VEVENT
DTSTART;TZID=America/New_York:20180915T190000
DTEND;TZID=America/New_York:20180915T210000
DTSTAMP:20260423T000516
CREATED:20180905T134424Z
LAST-MODIFIED:20180905T134711Z
UID:137817-1537038000-1537045200@theriverboston.com
SUMMARY:Boston Comedy Festival Finale
DESCRIPTION:Join us at the Boston Comedy Festival Finale!\nLocation\nSomerville Theatre \nDate\nSaturday\, September 15 \nTime\n7:00PM – 9:00PM \n  \nEight of the top comedians will compete for $10\,000 in prize money and bragging rights of being BCF Festival champ. \nHosted by Boston Comedy headliner Jim McCue who has been on Comedy Central\, Last Comic Standing and Gotham Live. \nThe Comedian of the Year Award will be presented to Boston’s own Gary Gulman and comedic actress Jennifer Coolidge with the lifetime achievement award. \nThe final eight up-and-coming stars from a 48-comic field go head-to-head for a $10\,000 first-place prize. In addition to the competition\, comedy legend\, comedic actress Jennifer Coolidge will receive the Boston Comedy Festival’s Lifetime Achievement Award. The Comedian of the Year Award will be presented to Boston’s own Gary Gulman Festival founder Jim McCue hosts. Fresh off Gotham Live and Dry Bar Comedy specials comedian Jim McCue\, “Boston’s King of Crowd Work”\, will be hosting this gala comedy event. \nTickets are still on-sale\, but you can also enter to win tickets from the River!
URL:https://theriverboston.com/events/boston-comedy-festival-finale/
LOCATION:Somerville Theatre\, 55 Davis Square\, Somerville\, MA\, 02144\, United States
END:VEVENT
END:VCALENDAR