BEGIN:VCALENDAR
VERSION:2.0
PRODID:-//92.5 the River - ECPv5.16.3.1//NONSGML v1.0//EN
CALSCALE:GREGORIAN
METHOD:PUBLISH
X-WR-CALNAME:92.5 the River
X-ORIGINAL-URL:https://theriverboston.com
X-WR-CALDESC:Events for 92.5 the River
BEGIN:VTIMEZONE
TZID:America/New_York
BEGIN:DAYLIGHT
TZOFFSETFROM:-0500
TZOFFSETTO:-0400
TZNAME:EDT
DTSTART:20210314T070000
END:DAYLIGHT
BEGIN:STANDARD
TZOFFSETFROM:-0400
TZOFFSETTO:-0500
TZNAME:EST
DTSTART:20211107T060000
END:STANDARD
END:VTIMEZONE
BEGIN:VEVENT
DTSTART;TZID=America/New_York:20211113T200000
DTEND;TZID=America/New_York:20211113T220000
DTSTAMP:20260420T152948
CREATED:20211103T154957Z
LAST-MODIFIED:20211103T154957Z
UID:215074-1636833600-1636840800@theriverboston.com
SUMMARY:Boston Comedy Festival Grand Finale
DESCRIPTION:Boston Comedy Festival\nGrand Finale\nBUY TICKETS \nSaturday\, November 13th | 8pm\nSomerville Theatre \nCombining iconic comedians with icons-in-the-making\, the 22nd Annual Boston Comedy Festival Gala will showcase some of the best established and new comedic talents. Performers at the Grand Finale include Jim McCue whose mixture of witty “A-list material” and ability to work off-script has earned Jim McCue the title “Boston’s King of Crowd Work!”\, Billy West who is best known for his work on Ren & Stimpy\, and Orny Adams who delivers a powerful\, incisive stand up routine that vacillates between the relevant and the absurd.
URL:https://theriverboston.com/events/boston-comedy-festival-grand-finale/
LOCATION:Somerville Theatre\, 55 Davis Square\, Somerville\, MA\, 02144\, United States
END:VEVENT
END:VCALENDAR