BEGIN:VCALENDAR
VERSION:2.0
PRODID:-//92.5 the River - ECPv5.16.3.1//NONSGML v1.0//EN
CALSCALE:GREGORIAN
METHOD:PUBLISH
X-WR-CALNAME:92.5 the River
X-ORIGINAL-URL:https://theriverboston.com
X-WR-CALDESC:Events for 92.5 the River
BEGIN:VTIMEZONE
TZID:America/New_York
BEGIN:DAYLIGHT
TZOFFSETFROM:-0500
TZOFFSETTO:-0400
TZNAME:EDT
DTSTART:20150308T070000
END:DAYLIGHT
BEGIN:STANDARD
TZOFFSETFROM:-0400
TZOFFSETTO:-0500
TZNAME:EST
DTSTART:20151101T060000
END:STANDARD
END:VTIMEZONE
BEGIN:VEVENT
DTSTART;TZID=America/New_York:20150731T190000
DTEND;TZID=America/New_York:20150731T210000
DTSTAMP:20260421T083932
CREATED:20150715T155608Z
LAST-MODIFIED:20150715T165804Z
UID:7781-1438369200-1438376400@theriverboston.com
SUMMARY:British Beer Company; Music\, Raffles and Games
DESCRIPTION:Come to British Beer Company and enjoy live music\, raffles\, and win prizes from The River Team! We will be raffling off concert tickets and hosting Beer Pong for some great prizes. You have three chances to come to these fun events… \n\n\nMonday\, July 31st in Walpole\, MA from 7-9pm with live music from Munk Duane Band \n\n\nSaturday\, August 8th in Portsmouth\, NH from from 7-9pm. Check out their Facebook to see who will be performing that night!\n\n\nSaturday\, August 15th in Westford\, MA from 6-8pm. Check out their Facebook to see who will be performing that night!
URL:https://theriverboston.com/events/british-beer-company-music-raffles-and-games/
LOCATION:British Beer Company-Walpole\, 85 Providence Highway\, Walepole\, MA\, 02032\, United States
END:VEVENT
END:VCALENDAR