BEGIN:VCALENDAR
VERSION:2.0
PRODID:-//92.5 the River - ECPv5.16.3.1//NONSGML v1.0//EN
CALSCALE:GREGORIAN
METHOD:PUBLISH
X-WR-CALNAME:92.5 the River
X-ORIGINAL-URL:https://theriverboston.com
X-WR-CALDESC:Events for 92.5 the River
BEGIN:VTIMEZONE
TZID:America/New_York
BEGIN:DAYLIGHT
TZOFFSETFROM:-0500
TZOFFSETTO:-0400
TZNAME:EDT
DTSTART:20190310T070000
END:DAYLIGHT
BEGIN:STANDARD
TZOFFSETFROM:-0400
TZOFFSETTO:-0500
TZNAME:EST
DTSTART:20191103T060000
END:STANDARD
END:VTIMEZONE
BEGIN:VEVENT
DTSTART;TZID=America/New_York:20190925T190000
DTEND;TZID=America/New_York:20190925T190000
DTSTAMP:20260420T025836
CREATED:20190625T170325Z
LAST-MODIFIED:20190923T200932Z
UID:209558-1569438000-1569438000@theriverboston.com
SUMMARY:Brittany Howard at The House of Blues!
DESCRIPTION:Best known as the front woman for the rock band Alabama Shakes\, Brittany Howard is coming to The House of Blues in Boston! She’s releasing her debut album Jaime on September 20th and just five days later she’s set to give an electrifying performance\, right in our own back yard! Tickets are on sale now\, get them here!
URL:https://theriverboston.com/events/brittany-howard-at-the-house-of-blues/
LOCATION:House of Blues Boston\, 15 Landsdowne Street\, Boston\, MA\, 02215\, United States
END:VEVENT
END:VCALENDAR