BEGIN:VCALENDAR
VERSION:2.0
PRODID:-//92.5 the River - ECPv5.16.3.1//NONSGML v1.0//EN
CALSCALE:GREGORIAN
METHOD:PUBLISH
X-WR-CALNAME:92.5 the River
X-ORIGINAL-URL:https://theriverboston.com
X-WR-CALDESC:Events for 92.5 the River
BEGIN:VTIMEZONE
TZID:America/New_York
BEGIN:DAYLIGHT
TZOFFSETFROM:-0500
TZOFFSETTO:-0400
TZNAME:EDT
DTSTART:20240310T070000
END:DAYLIGHT
BEGIN:STANDARD
TZOFFSETFROM:-0400
TZOFFSETTO:-0500
TZNAME:EST
DTSTART:20241103T060000
END:STANDARD
END:VTIMEZONE
BEGIN:VEVENT
DTSTART;TZID=America/New_York:20240312T193000
DTEND;TZID=America/New_York:20240312T193000
DTSTAMP:20260424T153924
CREATED:20240216T145043Z
LAST-MODIFIED:20240216T145311Z
UID:222759-1710271800-1710271800@theriverboston.com
SUMMARY:Broadway in Boston Presents "Girl From The North Country" (March 12-24)
DESCRIPTION:BUY TICKETS HERE\nThe Tony Award®-winning new musical “Girl From the North Country” reimagines 20 legendary songs of Bob Dylan. In Boston March 12th through 24th.\nWritten and directed by celebrated playwright Conor McPherson and featuring Tony Award-winning orchestrations by Simon Hale\, Girl From The North Country reimagines 20 legendary songs of Bob Dylan as they’ve never been heard before\, including “Forever Young\,” “All Along The Watchtower\,” “Hurricane\,” “Slow Train Coming\,” and “Like A Rolling Stone”. \nIt’s 1934 in Duluth\, Minnesota. We meet a group of wayward travelers whose lives intersect in a guesthouse filled with music\, life and hope. Experience this ‘profoundly beautiful’ production (The New York Times) brought to vivid life by an extraordinary company of actors and musicians. \n\nALL SHOWTIMES\n\nTuesday March 12th @ 7:30pm (opening night)\nWednesday March 13th @ 7:00pm\nThursday March 14th @ 7:30pm\nFriday March 15th @ 8:00pm\nSaturday March 16th @ 2:00pm & 8:00pm\nSunday March 17th @ 1:00pm & 6:30pm\nTuesday March 19th @ 7:30pm\nWednesday March 20th @ 7:30pm\nThursday March 21st @ 7:30pm\nFriday March 22nd @ 8:00pm\nSaturday March 23rd @ 2:00pm & 8:00pm\nSunday March 24th @ 1:00 & 6:30pm
URL:https://theriverboston.com/events/broadway-in-boston-presents-girl-from-the-north-country/
LOCATION:Emerson Colonial Theatre\, 106 Boylston Street\, Boston\, MA\, 02116\, United States
END:VEVENT
END:VCALENDAR