BEGIN:VCALENDAR
VERSION:2.0
PRODID:-//92.5 the River - ECPv5.16.3.1//NONSGML v1.0//EN
CALSCALE:GREGORIAN
METHOD:PUBLISH
X-WR-CALNAME:92.5 the River
X-ORIGINAL-URL:https://theriverboston.com
X-WR-CALDESC:Events for 92.5 the River
BEGIN:VTIMEZONE
TZID:America/New_York
BEGIN:DAYLIGHT
TZOFFSETFROM:-0500
TZOFFSETTO:-0400
TZNAME:EDT
DTSTART:20250309T070000
END:DAYLIGHT
BEGIN:STANDARD
TZOFFSETFROM:-0400
TZOFFSETTO:-0500
TZNAME:EST
DTSTART:20251102T060000
END:STANDARD
END:VTIMEZONE
BEGIN:VEVENT
DTSTART;TZID=America/New_York:20250808T170000
DTEND;TZID=America/New_York:20250808T190000
DTSTAMP:20260422T211740
CREATED:20250725T174011Z
LAST-MODIFIED:20250725T174204Z
UID:228299-1754672400-1754679600@theriverboston.com
SUMMARY:Bud Light Bar Night: Michael's Harborside in Newburyport
DESCRIPTION:Bud Light Bar Night | Friday\, August 8th \nMichael’s Harborside in Newburyport | 5-7pm \nWanna win a pair of VIP passes to Riverfest 2025? Stop by Michaels’s Harborside in Newburyport\, MA on Friday\, August 8th! Hang out with the River Roadies\, spin the River Prize Wheel\, and win some cool merch. PLUS: Enter for your chance to win VIP passes to Riverfest! Can’t wait to see you there! \nBrought to you by Bud Light. Easy to Drink. Easy to Enjoy.
URL:https://theriverboston.com/events/bud-light-bar-night-michaels-harborside-in-newburyport/
LOCATION:Michael’s Harborside\, 1 Tournament Wharf\, Newburyport\, MA\, United States
END:VEVENT
END:VCALENDAR