BEGIN:VCALENDAR
VERSION:2.0
PRODID:-//92.5 the River - ECPv5.16.3.1//NONSGML v1.0//EN
CALSCALE:GREGORIAN
METHOD:PUBLISH
X-WR-CALNAME:92.5 the River
X-ORIGINAL-URL:https://theriverboston.com
X-WR-CALDESC:Events for 92.5 the River
BEGIN:VTIMEZONE
TZID:America/New_York
BEGIN:DAYLIGHT
TZOFFSETFROM:-0500
TZOFFSETTO:-0400
TZNAME:EDT
DTSTART:20170312T070000
END:DAYLIGHT
BEGIN:STANDARD
TZOFFSETFROM:-0400
TZOFFSETTO:-0500
TZNAME:EST
DTSTART:20171105T060000
END:STANDARD
END:VTIMEZONE
BEGIN:VEVENT
DTSTART;TZID=America/New_York:20170824T170000
DTEND;TZID=America/New_York:20170824T190000
DTSTAMP:20260420T015638
CREATED:20170803T205645Z
LAST-MODIFIED:20170803T205645Z
UID:52581-1503594000-1503601200@theriverboston.com
SUMMARY:Bud Light Bar Night: Sea Level Oyster Bar
DESCRIPTION:How’d you like to win a pair of VIP passes to this year’s Riverfront Music Festival? \nJoin the River and Bud Light Thursday\, August 24th from 5:00 – 7:00 pm at Sea Level Oyster Bar in Newburyport as we get ready for this summer’s bests free outdoor concert! \nYou might walk away with a pair of festival VIP passes – or some cool merch from the River and Bud Light. \nMust be 21 years or older to enter.
URL:https://theriverboston.com/events/bud-light-bar-night-sea-level-oyster-bar/
LOCATION:Sea Level Oyster Bar\, 1 Market Square\, Newburyport\, MA\, 01950\, United States
END:VEVENT
END:VCALENDAR