BEGIN:VCALENDAR
VERSION:2.0
PRODID:-//92.5 the River - ECPv5.16.3.1//NONSGML v1.0//EN
CALSCALE:GREGORIAN
METHOD:PUBLISH
X-WR-CALNAME:92.5 the River
X-ORIGINAL-URL:https://theriverboston.com
X-WR-CALDESC:Events for 92.5 the River
BEGIN:VTIMEZONE
TZID:America/New_York
BEGIN:DAYLIGHT
TZOFFSETFROM:-0500
TZOFFSETTO:-0400
TZNAME:EDT
DTSTART:20160313T070000
END:DAYLIGHT
BEGIN:STANDARD
TZOFFSETFROM:-0400
TZOFFSETTO:-0500
TZNAME:EST
DTSTART:20161106T060000
END:STANDARD
END:VTIMEZONE
BEGIN:VEVENT
DTSTART;TZID=America/New_York:20161016T130000
DTEND;TZID=America/New_York:20161016T150000
DTSTAMP:20260423T060919
CREATED:20161005T205225Z
LAST-MODIFIED:20161011T183229Z
UID:22206-1476622800-1476630000@theriverboston.com
SUMMARY:Bud Light NE Patriots Viewing Party at The Peddler's Daughter!
DESCRIPTION:Join Crozby & the River Roadies at The Peddlers Daughter in Nashua\, NH along with our friends from Bud Light for a NE Patriots viewing party as we welcome Tom Brady back home to Foxborough when the Patriots face-off against AFC foes: the Cincinnati Bengals. \nWe will be giving away a pair of  Green Day Tickets!\nTo their Saint Patrick’s Day show\, Friday\, March 17th \nThere will be specials on Bud Light plus…. attendees can enter to win a Bud Light Tailgate Package! The Peddlers Daughter and Bud Light are also giving away tickets to the 11/13 Patriots-Seahawks game that day!!! \nThere will be plenty of drinks and prizes\, so join us! \nGO PATS! 
URL:https://theriverboston.com/events/bud-light-ne-patriots-viewing-party-peddlers-daughter/
LOCATION:The Peddler’s Daughter\, 48 Main Street\, Nashua\, NH\, 03060\, United States
END:VEVENT
END:VCALENDAR