BEGIN:VCALENDAR
VERSION:2.0
PRODID:-//92.5 the River - ECPv5.16.3.1//NONSGML v1.0//EN
CALSCALE:GREGORIAN
METHOD:PUBLISH
X-WR-CALNAME:92.5 the River
X-ORIGINAL-URL:https://theriverboston.com
X-WR-CALDESC:Events for 92.5 the River
BEGIN:VTIMEZONE
TZID:America/New_York
BEGIN:DAYLIGHT
TZOFFSETFROM:-0500
TZOFFSETTO:-0400
TZNAME:EDT
DTSTART:20210314T070000
END:DAYLIGHT
BEGIN:STANDARD
TZOFFSETFROM:-0400
TZOFFSETTO:-0500
TZNAME:EST
DTSTART:20211107T060000
END:STANDARD
END:VTIMEZONE
BEGIN:VEVENT
DTSTART;TZID=America/New_York:20211203T190000
DTEND;TZID=America/New_York:20211203T190000
DTSTAMP:20260419T212628
CREATED:20211109T181751Z
LAST-MODIFIED:20211109T185900Z
UID:215123-1638558000-1638558000@theriverboston.com
SUMMARY:Buffalo Tom @ Big Night Live
DESCRIPTION:Come see Buffalo Tom at Big Night Live!\nWith almost 30 years of music\, Buffalo Tom comes to Boston to perform at the new Big Night Live venue right next to TD Garden! They will be joined on the stage by special guest Tom Leo! This show is open for people of all ages. \nBUY TICKETS HERE! \nCOVID-19 PROTOCOL: All fans must be fully vaccinated against COVID-19 (at least two weeks after final dose) and provide proof of vaccination – either the original vaccination card or a printed copy of the vaccination card. Unvaccinated fans under 12 years of age will be required to take a COVID-19 diagnostic test within 48-hours before the event and will provide proof of negative result to security prior to entering the venue.\n 
URL:https://theriverboston.com/events/buffalo-tom-big-night-live/
LOCATION:Big Night Live\, 110 Causeway St\, Boston\, MA\, 02114\, United States
END:VEVENT
END:VCALENDAR