BEGIN:VCALENDAR
VERSION:2.0
PRODID:-//92.5 the River - ECPv5.16.3.1//NONSGML v1.0//EN
CALSCALE:GREGORIAN
METHOD:PUBLISH
X-WR-CALNAME:92.5 the River
X-ORIGINAL-URL:https://theriverboston.com
X-WR-CALDESC:Events for 92.5 the River
BEGIN:VTIMEZONE
TZID:America/New_York
BEGIN:DAYLIGHT
TZOFFSETFROM:-0500
TZOFFSETTO:-0400
TZNAME:EDT
DTSTART:20150308T070000
END:DAYLIGHT
BEGIN:STANDARD
TZOFFSETFROM:-0400
TZOFFSETTO:-0500
TZNAME:EST
DTSTART:20151101T060000
END:STANDARD
END:VTIMEZONE
BEGIN:VEVENT
DTSTART;TZID=America/New_York:20150627T100000
DTEND;TZID=America/New_York:20150627T210000
DTSTAMP:20260422T064401
CREATED:20150526T184304Z
LAST-MODIFIED:20150608T005516Z
UID:7155-1435399200-1435438800@theriverboston.com
SUMMARY:Byfield Music and Arts Festival
DESCRIPTION:join the River at the 2nd Annual Byfield Music and Arts Festival! \nSee the full SCHEDULE \nBUY TICKETS \nVOLUNTEER \nCheck out the WEBSITE
URL:https://theriverboston.com/events/byfield-music-festival/
LOCATION:Manter Field\, 81 Central Street\, Byfield\, MA\, 01922\, United States
END:VEVENT
END:VCALENDAR