BEGIN:VCALENDAR
VERSION:2.0
PRODID:-//92.5 the River - ECPv5.16.3.1//NONSGML v1.0//EN
CALSCALE:GREGORIAN
METHOD:PUBLISH
X-WR-CALNAME:92.5 the River
X-ORIGINAL-URL:https://theriverboston.com
X-WR-CALDESC:Events for 92.5 the River
BEGIN:VTIMEZONE
TZID:America/New_York
BEGIN:DAYLIGHT
TZOFFSETFROM:-0500
TZOFFSETTO:-0400
TZNAME:EDT
DTSTART:20170312T070000
END:DAYLIGHT
BEGIN:STANDARD
TZOFFSETFROM:-0400
TZOFFSETTO:-0500
TZNAME:EST
DTSTART:20171105T060000
END:STANDARD
END:VTIMEZONE
BEGIN:VEVENT
DTSTART;TZID=America/New_York:20170706T193000
DTEND;TZID=America/New_York:20170706T213000
DTSTAMP:20260424T131112
CREATED:20170309T212743Z
LAST-MODIFIED:20170309T212743Z
UID:37464-1499369400-1499376600@theriverboston.com
SUMMARY:Cabaret Fundraiser
DESCRIPTION:Chris Shepard on the keyboard and Rebecca Robbins sings at a cabaret style performance at the Pinckney Boathouse on the Brewster Academy campus. Desserts\, cash bar and a silent auction items to help raise money for Great Waters Music Festival.  Tickets are $60 and can be purchased at https://greatwaters.ticketleap.com/cabaret-fundraiser/ \n 
URL:https://theriverboston.com/events/cabaret-fundraiser/
LOCATION:Pinckney Boathouse\, 80 Academy Drive\, Wolfeboro\, NH\, 03894\, United States
END:VEVENT
END:VCALENDAR