BEGIN:VCALENDAR
VERSION:2.0
PRODID:-//92.5 the River - ECPv5.16.3.1//NONSGML v1.0//EN
CALSCALE:GREGORIAN
METHOD:PUBLISH
X-WR-CALNAME:92.5 the River
X-ORIGINAL-URL:https://theriverboston.com
X-WR-CALDESC:Events for 92.5 the River
BEGIN:VTIMEZONE
TZID:America/New_York
BEGIN:DAYLIGHT
TZOFFSETFROM:-0500
TZOFFSETTO:-0400
TZNAME:EDT
DTSTART:20150308T070000
END:DAYLIGHT
BEGIN:STANDARD
TZOFFSETFROM:-0400
TZOFFSETTO:-0500
TZNAME:EST
DTSTART:20151101T060000
END:STANDARD
END:VTIMEZONE
BEGIN:VEVENT
DTSTART;TZID=America/New_York:20150811T110000
DTEND;TZID=America/New_York:20150811T170000
DTSTAMP:20260420T110415
CREATED:20150729T181253Z
LAST-MODIFIED:20150729T181253Z
UID:7941-1439290800-1439312400@theriverboston.com
SUMMARY:Capitol Center for The Arts Presents: Pinocchio
DESCRIPTION:Little Smiles Children’s Summer Series: Pinocchio\n\nGeppetto wants a son. Pinocchio wants to be a real boy. An evil fox\, a carnival boss\, a hungry whale\, and a classic story about the value of telling the truth! \n  \nDetails\nWhere: Capitol Center for the Arts \nWhen: Tuesday\, August 11 \n11am & 2:30pm \nTo get more information about this great show\, check out Capitol Center for the Arts events calendar or their Facebook and Twitter!
URL:https://theriverboston.com/events/capitol-center-for-the-arts-presents-pinocchio/
LOCATION:Capitol Center for the Arts\, 44 South Main Street\, Concord\, NH\, 03301\, United States
END:VEVENT
END:VCALENDAR