BEGIN:VCALENDAR
VERSION:2.0
PRODID:-//92.5 the River - ECPv5.16.3.1//NONSGML v1.0//EN
CALSCALE:GREGORIAN
METHOD:PUBLISH
X-WR-CALNAME:92.5 the River
X-ORIGINAL-URL:https://theriverboston.com
X-WR-CALDESC:Events for 92.5 the River
BEGIN:VTIMEZONE
TZID:America/New_York
BEGIN:DAYLIGHT
TZOFFSETFROM:-0500
TZOFFSETTO:-0400
TZNAME:EDT
DTSTART:20210314T070000
END:DAYLIGHT
BEGIN:STANDARD
TZOFFSETFROM:-0400
TZOFFSETTO:-0500
TZNAME:EST
DTSTART:20211107T060000
END:STANDARD
END:VTIMEZONE
BEGIN:VEVENT
DTSTART;TZID=America/New_York:20211205T190000
DTEND;TZID=America/New_York:20211205T190000
DTSTAMP:20260419T113056
CREATED:20211123T174329Z
LAST-MODIFIED:20211123T174329Z
UID:215289-1638730800-1638730800@theriverboston.com
SUMMARY:Carbon Leaf @ Tupelo Music Hall
DESCRIPTION:Carbon Leaf\nSunday\, December 5th | 7pm\nTupelo Music Hall\nBuy tickets  \nFounded in 1992\, Carbon Leaf\, built a devoted cult following with their first three albums. Gathering 2: The Hunting Ground is the bands latest album\, released just this past September. “The Gathering series is all about building community\,” says Carbon Leaf frontman Barry Privett. “It’s an invitation to reach out and embrace the gifts of human connection.” Tickets are on sale now\, but you can enter our contest until Monday\, November 29th at noon to try and win a pair of tickets! Win Carbon Leaf @ Tupelo Music Hall tickets!
URL:https://theriverboston.com/events/carbon-leaf-tupelo-music-hall/
LOCATION:Tupelo Music Hall\, 10 A Street\, Derry\, NH\, 03038\, United States
END:VEVENT
END:VCALENDAR