BEGIN:VCALENDAR
VERSION:2.0
PRODID:-//92.5 the River - ECPv5.16.3.1//NONSGML v1.0//EN
CALSCALE:GREGORIAN
METHOD:PUBLISH
X-WR-CALNAME:92.5 the River
X-ORIGINAL-URL:https://theriverboston.com
X-WR-CALDESC:Events for 92.5 the River
BEGIN:VTIMEZONE
TZID:America/New_York
BEGIN:DAYLIGHT
TZOFFSETFROM:-0500
TZOFFSETTO:-0400
TZNAME:EDT
DTSTART:20160313T070000
END:DAYLIGHT
BEGIN:STANDARD
TZOFFSETFROM:-0400
TZOFFSETTO:-0500
TZNAME:EST
DTSTART:20161106T060000
END:STANDARD
END:VTIMEZONE
BEGIN:VEVENT
DTSTART;TZID=America/New_York:20161202T200000
DTEND;TZID=America/New_York:20161202T200000
DTSTAMP:20260425T115121
CREATED:20161003T182428Z
LAST-MODIFIED:20161003T182428Z
UID:21454-1480708800-1480708800@theriverboston.com
SUMMARY:The Carpenters Christmas Live at The Larcom Performing Arts Theatre
DESCRIPTION:The Larcom Performing Arts Theatre proudly presents The Carpenters Christmas concert!! Don’t miss out on a great show celebrating one of the most successful recording artists of all time!! \nBe sure to reserve your tickets early!
URL:https://theriverboston.com/events/carpenters-christmas-live-larcom-performing-arts-theatre/
LOCATION:Larcom Performing Arts Theatre\, 13 Wallis Street \, Beverly\, MA\, 01915\, United States
END:VEVENT
END:VCALENDAR