BEGIN:VCALENDAR
VERSION:2.0
PRODID:-//92.5 the River - ECPv5.16.3.1//NONSGML v1.0//EN
CALSCALE:GREGORIAN
METHOD:PUBLISH
X-WR-CALNAME:92.5 the River
X-ORIGINAL-URL:https://theriverboston.com
X-WR-CALDESC:Events for 92.5 the River
BEGIN:VTIMEZONE
TZID:America/New_York
BEGIN:DAYLIGHT
TZOFFSETFROM:-0500
TZOFFSETTO:-0400
TZNAME:EDT
DTSTART:20190310T070000
END:DAYLIGHT
BEGIN:STANDARD
TZOFFSETFROM:-0400
TZOFFSETTO:-0500
TZNAME:EST
DTSTART:20191103T060000
END:STANDARD
END:VTIMEZONE
BEGIN:VEVENT
DTSTART;TZID=America/New_York:20191102T130000
DTEND;TZID=America/New_York:20191102T160000
DTSTAMP:20260421T120747
CREATED:20191023T182227Z
LAST-MODIFIED:20191023T182412Z
UID:210891-1572699600-1572710400@theriverboston.com
SUMMARY:Center of the Universe Brew Fest
DESCRIPTION:Center of the Universe Brew Fest takes place on November 2\, 2019 at  New England Dragway in Epping NH\, known by the locals as the Center of the Universe\, a long standing joke that has become part of of the town’s identity. The event is 21+ and no children or pets will be admitted\, please bring a valid photo ID. You will have your choice of three ticket types ranging from $5-$50. The event will feature logo apparel\, music\, food trucks\, and brewers that you can view as they are added to the event page! Please bring cash as not all vendors will accept CC. The event is a fundraiser so you may also choose to donate to help our nonprofit\, “Friends of the Epping Library.” Hope to see you there! \nTickets: \nVIP: $50.00 12-4PM Limited to 200 ticket holders. VIP ticket holders will be able to enter the gates 1 hour prior to general admission\, parking will be closer to the beer vendors\, also provided are unlimited tastings from our Brewers and a souvenir glass with our full color logo (not for use at the tasting event.)\nGENERAL ADMISSION: $30.00 1-4PM Free Parking and unlimited Tastings.\nDESIGNATED DRIVERS: $5.00 Free bottle of water. \nNO BACKPACKS\nNO OUTSIDE FOOD OR DRINK\nNO CHILDREN\nNO PETS\nNO RE-ENTRY\n21+ EVENT \nEasy on and off from Exit #8 from Route 101 halfway between our seacoast and Manchester NH.\n*(Tickets will not be honored if you show up with children or pets as this is an adult beer tasting fundraiser. At a future date\, we will have an all-ages event\, to celebrate the library renovation once it has been completed.)
URL:https://theriverboston.com/events/center-of-the-universe-brew-fest/
LOCATION:New England Dragway\, 280 Exeter Rd\, Epping\, NH\, 03042\, United States
END:VEVENT
END:VCALENDAR