BEGIN:VCALENDAR
VERSION:2.0
PRODID:-//92.5 the River - ECPv5.16.3.1//NONSGML v1.0//EN
CALSCALE:GREGORIAN
METHOD:PUBLISH
X-WR-CALNAME:92.5 the River
X-ORIGINAL-URL:https://theriverboston.com
X-WR-CALDESC:Events for 92.5 the River
BEGIN:VTIMEZONE
TZID:America/New_York
BEGIN:DAYLIGHT
TZOFFSETFROM:-0500
TZOFFSETTO:-0400
TZNAME:EDT
DTSTART:20180311T070000
END:DAYLIGHT
BEGIN:STANDARD
TZOFFSETFROM:-0400
TZOFFSETTO:-0500
TZNAME:EST
DTSTART:20181104T060000
END:STANDARD
END:VTIMEZONE
BEGIN:VEVENT
DTSTART;TZID=America/New_York:20181026T180000
DTEND;TZID=America/New_York:20181026T220000
DTSTAMP:20260421T012208
CREATED:20181018T190654Z
LAST-MODIFIED:20181018T190654Z
UID:203539-1540576800-1540591200@theriverboston.com
SUMMARY:Chad Perrone Band at City Winery
DESCRIPTION:Come see Chad Perrone Band Friday\, October 26th at the City Winery\, Boston in the Haymarket Lounge! Open to all ages\, doors open 6pm show starts at 7:30pm!
URL:https://theriverboston.com/events/chad-perrone-band-at-city-winery/
LOCATION:City Winery Boston\, 80 Beverly Street at One Canal\, Boston\, MA\, 02114\, United States
END:VEVENT
END:VCALENDAR