BEGIN:VCALENDAR
VERSION:2.0
PRODID:-//92.5 the River - ECPv5.16.3.1//NONSGML v1.0//EN
CALSCALE:GREGORIAN
METHOD:PUBLISH
X-WR-CALNAME:92.5 the River
X-ORIGINAL-URL:https://theriverboston.com
X-WR-CALDESC:Events for 92.5 the River
BEGIN:VTIMEZONE
TZID:America/New_York
BEGIN:DAYLIGHT
TZOFFSETFROM:-0500
TZOFFSETTO:-0400
TZNAME:EDT
DTSTART:20190310T070000
END:DAYLIGHT
BEGIN:STANDARD
TZOFFSETFROM:-0400
TZOFFSETTO:-0500
TZNAME:EST
DTSTART:20191103T060000
END:STANDARD
END:VTIMEZONE
BEGIN:VEVENT
DTSTART;TZID=America/New_York:20190523T200000
DTEND;TZID=America/New_York:20190523T230000
DTSTAMP:20260420T002623
CREATED:20190430T175624Z
LAST-MODIFIED:20190430T175624Z
UID:208906-1558641600-1558652400@theriverboston.com
SUMMARY:Chad Perrone Band @ City Winery
DESCRIPTION:Come see the Chad Perrone Band at City Winery on Thursday\, May 23rd at 8:00 pm! \nTickets are $15 in advance and $20 at the door.
URL:https://theriverboston.com/events/chad-perrone-band-city-winery/
LOCATION:City Winery Boston\, 80 Beverly Street at One Canal\, Boston\, MA\, 02114\, United States
END:VEVENT
END:VCALENDAR