BEGIN:VCALENDAR
VERSION:2.0
PRODID:-//92.5 the River - ECPv5.16.3.1//NONSGML v1.0//EN
CALSCALE:GREGORIAN
METHOD:PUBLISH
X-WR-CALNAME:92.5 the River
X-ORIGINAL-URL:https://theriverboston.com
X-WR-CALDESC:Events for 92.5 the River
BEGIN:VTIMEZONE
TZID:America/New_York
BEGIN:DAYLIGHT
TZOFFSETFROM:-0500
TZOFFSETTO:-0400
TZNAME:EDT
DTSTART:20170312T070000
END:DAYLIGHT
BEGIN:STANDARD
TZOFFSETFROM:-0400
TZOFFSETTO:-0500
TZNAME:EST
DTSTART:20171105T060000
END:STANDARD
END:VTIMEZONE
BEGIN:VEVENT
DTSTART;TZID=America/New_York:20170415T090000
DTEND;TZID=America/New_York:20170415T120000
DTSTAMP:20260425T183632
CREATED:20170328T161319Z
LAST-MODIFIED:20170411T202411Z
UID:38979-1492246800-1492257600@theriverboston.com
SUMMARY:Chase the Gorilla Down the Argilla\, 5k Ipswich
DESCRIPTION:Join the River Roadies for the Chase the Gorilla Down the Argilla\, 5k in Ipswich On Saturday April 15th. This fun filled race kicks off the 2017 North Shore Road Race Series! Argy the Gorilla has completed the wandering 5k course through the wooded neighborhoods of Ipswich on everything from running shoes to a segway to the back seat of a convertible. Bring the kids along for fun with Argie the Gorilla! Post race awards\, refreshments music\, photos\, and the River Roadies will also be there with the prize wheel! Along with the prize wheel you will have the chance to win Tickets to Melissa Etheridge Thursday April 27th at Cary Hall In Lexington.
URL:https://theriverboston.com/events/chase-gorilla-argilla-5k-ipswich-2/
LOCATION:Ipswich Family YMCA\, 110 County Road\, Ipswich\, MA\, 01938\, United States
END:VEVENT
END:VCALENDAR