BEGIN:VCALENDAR
VERSION:2.0
PRODID:-//92.5 the River - ECPv5.16.3.1//NONSGML v1.0//EN
CALSCALE:GREGORIAN
METHOD:PUBLISH
X-WR-CALNAME:92.5 the River
X-ORIGINAL-URL:https://theriverboston.com
X-WR-CALDESC:Events for 92.5 the River
BEGIN:VTIMEZONE
TZID:America/New_York
BEGIN:DAYLIGHT
TZOFFSETFROM:-0500
TZOFFSETTO:-0400
TZNAME:EDT
DTSTART:20200308T070000
END:DAYLIGHT
BEGIN:STANDARD
TZOFFSETFROM:-0400
TZOFFSETTO:-0500
TZNAME:EST
DTSTART:20201101T060000
END:STANDARD
END:VTIMEZONE
BEGIN:VEVENT
DTSTART;TZID=America/New_York:20200416T193000
DTEND;TZID=America/New_York:20200416T193000
DTSTAMP:20260420T102643
CREATED:20191104T194812Z
LAST-MODIFIED:20200325T195425Z
UID:210977-1587065400-1587065400@theriverboston.com
SUMMARY:CANCELED: Che Apalache At The Music Hall
DESCRIPTION:Che Apalache’s show at The Music Hall has been canceled due to the COVID-19 pandemic. Click here for more information and updates on other upcoming shows.
URL:https://theriverboston.com/events/che-apalache-at-the-music-hall/
LOCATION:The Music Hall\, 28 Chestnut Street\, Portsmouth\, NH\, 03801\, United States
END:VEVENT
END:VCALENDAR