BEGIN:VCALENDAR
VERSION:2.0
PRODID:-//92.5 the River - ECPv5.16.3.1//NONSGML v1.0//EN
CALSCALE:GREGORIAN
METHOD:PUBLISH
X-WR-CALNAME:92.5 the River
X-ORIGINAL-URL:https://theriverboston.com
X-WR-CALDESC:Events for 92.5 the River
BEGIN:VTIMEZONE
TZID:America/New_York
BEGIN:DAYLIGHT
TZOFFSETFROM:-0500
TZOFFSETTO:-0400
TZNAME:EDT
DTSTART:20220313T070000
END:DAYLIGHT
BEGIN:STANDARD
TZOFFSETFROM:-0400
TZOFFSETTO:-0500
TZNAME:EST
DTSTART:20221106T060000
END:STANDARD
END:VTIMEZONE
BEGIN:VEVENT
DTSTART;TZID=America/New_York:20221125T200000
DTEND;TZID=America/New_York:20221125T220000
DTSTAMP:20260425T202312
CREATED:20221101T185216Z
LAST-MODIFIED:20221101T185216Z
UID:217513-1669406400-1669413600@theriverboston.com
SUMMARY:Chris Isaak Christmas Tour - Cary Hall Lexington
DESCRIPTION:Chris Isaak’s “Everybody Knows It’s Christmas” Tour\n\nVIEW/BUY TICKETS HERE\nOver the course of his three-decade plus career\, Platinum-selling and GRAMMY-nominated singer & actor Chris Isaak has performed to sold-out crowds across the globe with his longtime band Silvertone. His music and film credits include nine critically acclaimed studio albums\, twelve chart-topping singles along with several motion pictures\, such as The Silence of the Lambs and That Thing You Do!. His work has also taken him behind the scenes\, creating music for multiple film soundtracks\, including Eyes Wide Shut\, True Romance\, Wild at Heart\, and Blue Velvet. READ MORE
URL:https://theriverboston.com/events/chris-isaak-christmas-tour-cary-hall-lexington/
LOCATION:Cary Hall\, 1605 Massachusetts Ave\, Lexington\, MA\, 02420\, United States
END:VEVENT
END:VCALENDAR