BEGIN:VCALENDAR
VERSION:2.0
PRODID:-//92.5 the River - ECPv5.16.3.1//NONSGML v1.0//EN
CALSCALE:GREGORIAN
METHOD:PUBLISH
X-WR-CALNAME:92.5 the River
X-ORIGINAL-URL:https://theriverboston.com
X-WR-CALDESC:Events for 92.5 the River
BEGIN:VTIMEZONE
TZID:America/New_York
BEGIN:DAYLIGHT
TZOFFSETFROM:-0500
TZOFFSETTO:-0400
TZNAME:EDT
DTSTART:20150308T070000
END:DAYLIGHT
BEGIN:STANDARD
TZOFFSETFROM:-0400
TZOFFSETTO:-0500
TZNAME:EST
DTSTART:20151101T060000
END:STANDARD
END:VTIMEZONE
BEGIN:VEVENT
DTSTART;TZID=America/New_York:20150717T193000
DTEND;TZID=America/New_York:20150717T220000
DTSTAMP:20260421T165045
CREATED:20150520T173752Z
LAST-MODIFIED:20150714T153927Z
UID:7128-1437161400-1437170400@theriverboston.com
SUMMARY:Chris Robinson Brotherhood LIVE in Lowell!
DESCRIPTION:  \n\nJoin Carolyn Morrell and the River Crew at Boarding House Park to see Chris Robinson Brotherhood LIVE!!! \nKeep up with the band on Facebook and check out the Lowell Summer Music Series website for information on other great events! \nBuy your tickets and check the River’s Facebook and Twitter for a chance to win tickets! \nStop by and say hi to The River team who will be onsite from 6:30-9!
URL:https://theriverboston.com/events/chris-robinson-brotherhood-live-in-lowell/
LOCATION:Boarding House Park\, 40 French Street\, Lowell\, 01852\, United States
END:VEVENT
END:VCALENDAR