BEGIN:VCALENDAR
VERSION:2.0
PRODID:-//92.5 the River - ECPv5.16.3.1//NONSGML v1.0//EN
CALSCALE:GREGORIAN
METHOD:PUBLISH
X-WR-CALNAME:92.5 the River
X-ORIGINAL-URL:https://theriverboston.com
X-WR-CALDESC:Events for 92.5 the River
BEGIN:VTIMEZONE
TZID:America/New_York
BEGIN:DAYLIGHT
TZOFFSETFROM:-0500
TZOFFSETTO:-0400
TZNAME:EDT
DTSTART:20210314T070000
END:DAYLIGHT
BEGIN:STANDARD
TZOFFSETFROM:-0400
TZOFFSETTO:-0500
TZNAME:EST
DTSTART:20211107T060000
END:STANDARD
END:VTIMEZONE
BEGIN:VEVENT
DTSTART;TZID=America/New_York:20211011T193000
DTEND;TZID=America/New_York:20211011T193000
DTSTAMP:20260422T093441
CREATED:20210722T143206Z
LAST-MODIFIED:20210722T143206Z
UID:214186-1633980600-1633980600@theriverboston.com
SUMMARY:Chris Thile at The Music Hall
DESCRIPTION:Don’t miss Chris Thile at The Music Hall!\nConcert starts at 7:30 PM. \nMacArthur Fellow and Grammy Award-winning mandolinist\, singer\, songwriter Chris Thile comes to The Music Hall in Portsmouth\, NH on October 11\, 2021. With his broad outlook\, Thile creates a distinctly American canon and a new musical aesthetic for performers and audiences alike\, giving the listener “one joyous arc\, with the linear melody and vertical harmony blurring into a single web of gossamer beauty” (New York Times).  READ MORE. \nPURCHASE TICKETS HERE! \nStay up to date with Chris Thile!\nFacebook | Instagram
URL:https://theriverboston.com/events/chris-thile-at-the-music-hall/
LOCATION:The Music Hall\, 28 Chestnut Street\, Portsmouth\, NH\, 03801\, United States
END:VEVENT
END:VCALENDAR