BEGIN:VCALENDAR
VERSION:2.0
PRODID:-//92.5 the River - ECPv5.16.3.1//NONSGML v1.0//EN
CALSCALE:GREGORIAN
METHOD:PUBLISH
X-WR-CALNAME:92.5 the River
X-ORIGINAL-URL:https://theriverboston.com
X-WR-CALDESC:Events for 92.5 the River
BEGIN:VTIMEZONE
TZID:America/New_York
BEGIN:DAYLIGHT
TZOFFSETFROM:-0500
TZOFFSETTO:-0400
TZNAME:EDT
DTSTART:20150308T070000
END:DAYLIGHT
BEGIN:STANDARD
TZOFFSETFROM:-0400
TZOFFSETTO:-0500
TZNAME:EST
DTSTART:20151101T060000
END:STANDARD
END:VTIMEZONE
BEGIN:VEVENT
DTSTART;TZID=America/New_York:20150821T200000
DTEND;TZID=America/New_York:20150821T230000
DTSTAMP:20260419T200259
CREATED:20150512T193115Z
LAST-MODIFIED:20150514T170031Z
UID:7055-1440187200-1440198000@theriverboston.com
SUMMARY:Citizen Cope at the Casino Ballroom
DESCRIPTION:The River presents Citizen Cope LIVE at the Casino Ballroom Friday\, August 21!!\nBuy Tickets \nFind more tour dates \nCheck him out on Facebook: https://www.facebook.com/citizencope?fref=ts \nAbout the Artist: Born Clarence Greenwood\, his life journey is as singular as his art. He is the radically mashed-up product of Greenville\, Mississippi; Memphis\, Tennessee; Vernon\, Texas; Austin\, Texas; Washington\, DC; and Brooklyn\, New York. These locations are felt everywhere in his stories. His sounds are southern rural\, big sky lonely\, concrete urban\, and painfully romantic. \nREAD MORE \nKeep up to date on opportunities to win tickets by visiting our Facebook and Twitter ! \n 
URL:https://theriverboston.com/events/citizen-cope-at-the-casino-ballroom/
END:VEVENT
END:VCALENDAR