BEGIN:VCALENDAR
VERSION:2.0
PRODID:-//92.5 the River - ECPv5.16.3.1//NONSGML v1.0//EN
CALSCALE:GREGORIAN
METHOD:PUBLISH
X-WR-CALNAME:92.5 the River
X-ORIGINAL-URL:https://theriverboston.com
X-WR-CALDESC:Events for 92.5 the River
BEGIN:VTIMEZONE
TZID:America/New_York
BEGIN:DAYLIGHT
TZOFFSETFROM:-0500
TZOFFSETTO:-0400
TZNAME:EDT
DTSTART:20160313T070000
END:DAYLIGHT
BEGIN:STANDARD
TZOFFSETFROM:-0400
TZOFFSETTO:-0500
TZNAME:EST
DTSTART:20161106T060000
END:STANDARD
END:VTIMEZONE
BEGIN:VEVENT
DTSTART;TZID=America/New_York:20160406T200000
DTEND;TZID=America/New_York:20160406T220000
DTSTAMP:20260419T212629
CREATED:20160401T173351Z
LAST-MODIFIED:20160401T173524Z
UID:10445-1459972800-1459980000@theriverboston.com
SUMMARY:Citizen Cope at The Wilbur
DESCRIPTION:See an intimate acoustic performance by Citizen Cope at The Wilbur!\nWhen: April 6th\nShowtime: 8:00pm\nTickets and show details are available here!
URL:https://theriverboston.com/events/citizen-cope-wilbur/
LOCATION:The Wilbur\, 246 Tremont St\, Boston\, MA\, 02116\, United States
END:VEVENT
END:VCALENDAR