BEGIN:VCALENDAR
VERSION:2.0
PRODID:-//92.5 the River - ECPv5.16.3.1//NONSGML v1.0//EN
CALSCALE:GREGORIAN
METHOD:PUBLISH
X-WR-CALNAME:92.5 the River
X-ORIGINAL-URL:https://theriverboston.com
X-WR-CALDESC:Events for 92.5 the River
BEGIN:VTIMEZONE
TZID:America/New_York
BEGIN:DAYLIGHT
TZOFFSETFROM:-0500
TZOFFSETTO:-0400
TZNAME:EDT
DTSTART:20210314T070000
END:DAYLIGHT
BEGIN:STANDARD
TZOFFSETFROM:-0400
TZOFFSETTO:-0500
TZNAME:EST
DTSTART:20211107T060000
END:STANDARD
END:VTIMEZONE
BEGIN:VEVENT
DTSTART;TZID=America/New_York:20211023T193000
DTEND;TZID=America/New_York:20211023T193000
DTSTAMP:20260421T230546
CREATED:20210621T181311Z
LAST-MODIFIED:20210621T181311Z
UID:213830-1635017400-1635017400@theriverboston.com
SUMMARY:City and Colour Solo Show @ Orpheum Theatre
DESCRIPTION:Don’t miss City and Colour at Orpheum Theatre: October 23\nShow: 7:30 PM \nCanadian musician Dallas Green\, AKA City and Colour is coming to Boston! \nCity and Colour has partnered with PLUS1 so that a portion of proceeds goes to supporting organizations bringing dignity\, equality\, and access to communities who need it. \nCLICK HERE for tickets and more information about the show.\n \nKeep up with City and Colour!\nFACEBOOK | TWITTER | INSTAGRAM
URL:https://theriverboston.com/events/city-and-colour-solo-show-orpheum-theatre/
LOCATION:Orpheum Theatre\, 1 Hamilton Place\, Boston\, MA\, 02108\, United States
END:VEVENT
END:VCALENDAR