BEGIN:VCALENDAR
VERSION:2.0
PRODID:-//92.5 the River - ECPv5.16.3.1//NONSGML v1.0//EN
CALSCALE:GREGORIAN
METHOD:PUBLISH
X-WR-CALNAME:92.5 the River
X-ORIGINAL-URL:https://theriverboston.com
X-WR-CALDESC:Events for 92.5 the River
BEGIN:VTIMEZONE
TZID:America/New_York
BEGIN:DAYLIGHT
TZOFFSETFROM:-0500
TZOFFSETTO:-0400
TZNAME:EDT
DTSTART:20220313T070000
END:DAYLIGHT
BEGIN:STANDARD
TZOFFSETFROM:-0400
TZOFFSETTO:-0500
TZNAME:EST
DTSTART:20221106T060000
END:STANDARD
END:VTIMEZONE
BEGIN:VEVENT
DTSTART;TZID=America/New_York:20220227T200000
DTEND;TZID=America/New_York:20220227T200000
DTSTAMP:20260420T224924
CREATED:20210727T134240Z
LAST-MODIFIED:20210727T134240Z
UID:214261-1645992000-1645992000@theriverboston.com
SUMMARY:Clairo at the House of Blues 2/27
DESCRIPTION:Don’t miss Clairo at the House of Blues!\nThe Sling Tour with Arlo Parks\nDoors: 7 PM\nShow: 8 PM \nMassachusettes-raised Claire Elizabeth Cottrill\, aka Clairo\, is hitting the road for her Sling Tour with support from Arlo Parks. More info. \nEnter to Win Tickets to the 2/28 show! \nClick For All Things Clairo | Facebook | Twitter | Instagram
URL:https://theriverboston.com/events/clairo-at-the-house-of-blues-2-27/
LOCATION:House of Blues Boston\, 15 Landsdowne Street\, Boston\, MA\, 02215\, United States
END:VEVENT
END:VCALENDAR