BEGIN:VCALENDAR
VERSION:2.0
PRODID:-//92.5 the River - ECPv5.16.3.1//NONSGML v1.0//EN
CALSCALE:GREGORIAN
METHOD:PUBLISH
X-WR-CALNAME:92.5 the River
X-ORIGINAL-URL:https://theriverboston.com
X-WR-CALDESC:Events for 92.5 the River
BEGIN:VTIMEZONE
TZID:America/New_York
BEGIN:DAYLIGHT
TZOFFSETFROM:-0500
TZOFFSETTO:-0400
TZNAME:EDT
DTSTART:20160313T070000
END:DAYLIGHT
BEGIN:STANDARD
TZOFFSETFROM:-0400
TZOFFSETTO:-0500
TZNAME:EST
DTSTART:20161106T060000
END:STANDARD
END:VTIMEZONE
BEGIN:VEVENT
DTSTART;TZID=America/New_York:20160213T190000
DTEND;TZID=America/New_York:20160213T230000
DTSTAMP:20260421T024753
CREATED:20160205T212918Z
LAST-MODIFIED:20160205T212918Z
UID:9874-1455390000-1455404400@theriverboston.com
SUMMARY:Classic Vinyl Revival Show - Tribute to Foreigner and John Cougar Mellencamp
DESCRIPTION:See two amazing tribute shows at the Hard Rock Cafe Boston! Doors open at 7 pm so don’t miss a night of vinyl classics!
URL:https://theriverboston.com/events/classic-vinyl-revival-show-tribute-to-foreigner-and-john-cougar-mellencamp/
LOCATION:Hard Rock Cafe Boston\, 22-24 Clinton Street\, Boston\, MA\, 02109\, United States
END:VEVENT
END:VCALENDAR