BEGIN:VCALENDAR
VERSION:2.0
PRODID:-//92.5 the River - ECPv5.16.3.1//NONSGML v1.0//EN
CALSCALE:GREGORIAN
METHOD:PUBLISH
X-WR-CALNAME:92.5 the River
X-ORIGINAL-URL:https://theriverboston.com
X-WR-CALDESC:Events for 92.5 the River
BEGIN:VTIMEZONE
TZID:America/New_York
BEGIN:DAYLIGHT
TZOFFSETFROM:-0500
TZOFFSETTO:-0400
TZNAME:EDT
DTSTART:20240310T070000
END:DAYLIGHT
BEGIN:STANDARD
TZOFFSETFROM:-0400
TZOFFSETTO:-0500
TZNAME:EST
DTSTART:20241103T060000
END:STANDARD
END:VTIMEZONE
BEGIN:VEVENT
DTSTART;TZID=America/New_York:20241110T193000
DTEND;TZID=America/New_York:20241110T220000
DTSTAMP:20260419T200519
CREATED:20241023T165256Z
LAST-MODIFIED:20241023T165256Z
UID:225405-1731267000-1731276000@theriverboston.com
SUMMARY:Closing Night of Jersey Boys at the Palace Theatre
DESCRIPTION:BUY TICKETS HERE\nJERSEY BOYS – OCTOBER 18 – NOVEMBER 10\nThe Story of Frankie Valli & The Four Seasons\nWith phenomenal music\, memorable characters\, and great storytelling\, Jersey Boys follows the fascinating evolution of four blue-collar kids who became one of the greatest successes in pop-music history. Winner of Best Musical at both the Tony Awards® and Olivier Awards®\, JERSEY BOYS takes you behind the music of Frankie Valli and The Four Seasons to discover the secret of a 40-year friendship as the foursome work their way from the streets of New Jersey to the heights of stardom. An electrifying performance of chart-topping hits including “Sherry\,” “Big Girls Don’t Cry\,” “Can’t Take My Eyes Off You\,” “Dawn\,” and “My Eyes Adored You\,” which brought The Four Seasons the highest honor: induction into the Rock ‘n’ Roll Hall of Fame. \nDisclaimer: Contains Adult Language \n\nFIND MORE EVENTS AT THE HISTORIC PALACE THEATRE \nFull List of Showtimes\n\nFriday October 18\, 2024 7:30 PM\nSaturday October 19\, 2024 2 PM\nSaturday October 19\, 2024 7:30 PM\nSunday October 20\, 2024 2 PM\nSaturday October 25\, 2024 7:30 PM\nSaturday October 26\, 2024 2:00 PM\n \nSaturday October 26\, 2024 7:30 PM\n \nSunday October 27\, 2024 2:00 PM\n \nFriday November 1\, 2024 7:30 PM\n \nSaturday November 2\, 2024 2:00 PM\n \nSaturday November 2\, 2024 7:30 PM\n \nSunday November 3\, 2024 2:00 PM\n \nThursday November 7\, 2024 7:30 PM\n \nFriday November 8\, 2024 7:30 PM\n \nSaturday November 9\, 2024 2:00 PM\n \nSaturday November 9\, 2024 7:30 PM\nSunday November 10\, 2024 2:00 PM\n\n  \nBook by \nMarshall Brickman & Rick Elice \nMusic by \nBob Gaudio \nLyrics by \nBob Crewe \nOriginal Broadway Stage Production by Dodger Theatricals (Michael David\, Edward Strong\, Rocco Landesman\, Des McAnuff); Joseph J. Grano; Tamara and Kevin Kinsella; Pelican Group in association with Latitude Link Rick Steiner/Osher/Staton/Bell/Mayerson Group World Premiere Produced by La Jolla Playhouse\, La Jolla\, CA\, Des McAnuff\, Artistic Director & Steven B. Libman\, Managing Director \nJERSEY BOYS is presented through special arrangement with and all authorized performance materials are supplied by Theatrical Rights Worldwide 1180 Avenue of the Americas\, Suite 640\, New York\, NY 10036. http://www.theatricalrights.com
URL:https://theriverboston.com/events/closing-night-of-jersey-boys-at-the-palace-theatre/
LOCATION:Palace Theatre\, 80 Hanover Street\, Manchester\, NH\, 03101\, United States
END:VEVENT
END:VCALENDAR