BEGIN:VCALENDAR
VERSION:2.0
PRODID:-//92.5 the River - ECPv5.16.3.1//NONSGML v1.0//EN
CALSCALE:GREGORIAN
METHOD:PUBLISH
X-WR-CALNAME:92.5 the River
X-ORIGINAL-URL:https://theriverboston.com
X-WR-CALDESC:Events for 92.5 the River
BEGIN:VTIMEZONE
TZID:America/New_York
BEGIN:DAYLIGHT
TZOFFSETFROM:-0500
TZOFFSETTO:-0400
TZNAME:EDT
DTSTART:20220313T070000
END:DAYLIGHT
BEGIN:STANDARD
TZOFFSETFROM:-0400
TZOFFSETTO:-0500
TZNAME:EST
DTSTART:20221106T060000
END:STANDARD
END:VTIMEZONE
BEGIN:VEVENT
DTSTART;TZID=America/New_York:20220220T120000
DTEND;TZID=America/New_York:20220220T120000
DTSTAMP:20260420T183433
CREATED:20220127T211031Z
LAST-MODIFIED:20220127T211031Z
UID:215626-1645358400-1645358400@theriverboston.com
SUMMARY:Closing Night of The Full Monty at the Palace Theatre
DESCRIPTION:THE FULL MONTY – LIVE AT THE PALACE THEATRE\nBUY TICKETS\nShow dates: \n\nJanuary 28\nJanuary 29\nJanuary 30\nFebruary 4\nFebruary 5\nFebruary 6\nFebruary 11\nFebruary 12\nFebruary 13\nFebruary 17\nFebruary 18\nFebruary 19\nFebruary 20\n\n  \nBased on the cult hit film of the same name\, The Full Monty\, a ten-time Tony Award nominee\, is filled with honest affection\, engaging melodies and the most highly anticipated closing number of any show. While spying on their wives at a “Girls’ Night Out\,” a group of unemployed steelworkers from Buffalo sees how much they enjoy watching male strippers. Jealous\, out of work and feeling emasculated\, the men come up with a bold and unclothed way to make some quick cash. In preparing\, they find themselves extremely exposed; not merely physically but emotionally. As they conquer their fears\, self-consciousness and prejudices\, the men come to discover that they’re stronger as a group\, and the strength that they find in each other gives them the individual courage to “let it go.” With a raucous mix of razor-sharp humor and toe-tapping pizzazz\, this heartwarming\, upbeat comedy is a must see. \n  \n\n  \n  \n 
URL:https://theriverboston.com/events/closing-night-of-the-full-monty-at-the-palace-theatre/
LOCATION:Palace Theatre\, 80 Hanover Street\, Manchester\, NH\, 03101\, United States
END:VEVENT
END:VCALENDAR