BEGIN:VCALENDAR
VERSION:2.0
PRODID:-//92.5 the River - ECPv5.16.3.1//NONSGML v1.0//EN
CALSCALE:GREGORIAN
METHOD:PUBLISH
X-WR-CALNAME:92.5 the River
X-ORIGINAL-URL:https://theriverboston.com
X-WR-CALDESC:Events for 92.5 the River
BEGIN:VTIMEZONE
TZID:America/New_York
BEGIN:DAYLIGHT
TZOFFSETFROM:-0500
TZOFFSETTO:-0400
TZNAME:EDT
DTSTART:20150308T070000
END:DAYLIGHT
BEGIN:STANDARD
TZOFFSETFROM:-0400
TZOFFSETTO:-0500
TZNAME:EST
DTSTART:20151101T060000
END:STANDARD
END:VTIMEZONE
BEGIN:VEVENT
DTSTART;TZID=America/New_York:20150628T070000
DTEND;TZID=America/New_York:20150628T120000
DTSTAMP:20260422T051731
CREATED:20150615T191459Z
LAST-MODIFIED:20150615T191459Z
UID:7301-1435474800-1435492800@theriverboston.com
SUMMARY:Cohasset Triathalon
DESCRIPTION:We’ll be at the Cohasset Triathlon on June 28th. While this year’s race is sold out\, you can still come cheer on participants and enjoy live music from Aldous Collins.
URL:https://theriverboston.com/events/cohasset-triathalon/
LOCATION:Cohasset Senior Center\, 89 Sohier Street\, Cohasset\, MA\, United States
END:VEVENT
END:VCALENDAR