BEGIN:VCALENDAR
VERSION:2.0
PRODID:-//92.5 the River - ECPv5.16.3.1//NONSGML v1.0//EN
CALSCALE:GREGORIAN
METHOD:PUBLISH
X-WR-CALNAME:92.5 the River
X-ORIGINAL-URL:https://theriverboston.com
X-WR-CALDESC:Events for 92.5 the River
BEGIN:VTIMEZONE
TZID:America/New_York
BEGIN:DAYLIGHT
TZOFFSETFROM:-0500
TZOFFSETTO:-0400
TZNAME:EDT
DTSTART:20240310T070000
END:DAYLIGHT
BEGIN:STANDARD
TZOFFSETFROM:-0400
TZOFFSETTO:-0500
TZNAME:EST
DTSTART:20241103T060000
END:STANDARD
END:VTIMEZONE
BEGIN:VEVENT
DTSTART;TZID=America/New_York:20240228T200000
DTEND;TZID=America/New_York:20240228T200000
DTSTAMP:20260424T112038
CREATED:20240221T174808Z
LAST-MODIFIED:20240221T174910Z
UID:222842-1709150400-1709150400@theriverboston.com
SUMMARY:Cold War Kids 20 Year Tour at Citizens House of Blues
DESCRIPTION:For nearly 15 years\, Nathan Willett and Cold War Kids have fielded the shifts in the music landscape’s seismic activity as well as the ebbs and flows in their own camp while simultaneously sticking to their game plan. Over the course of a dozen releases on majors and indies alike\, non-stop tours and the festival circuit’s biggest stages\, massive radio and streaming successes as well as a few lineup changes\, Cold War Kids have become a major part of the modern scene. Support by Joe P. More info and tickets here.
URL:https://theriverboston.com/events/cold-war-kids-20-year-tour/
LOCATION:Citizens House Of Blues\, 15 Lansdowne Street\, Boston\, MA\, 02215\, United States
END:VEVENT
END:VCALENDAR