BEGIN:VCALENDAR
VERSION:2.0
PRODID:-//92.5 the River - ECPv5.16.3.1//NONSGML v1.0//EN
CALSCALE:GREGORIAN
METHOD:PUBLISH
X-WR-CALNAME:92.5 the River
X-ORIGINAL-URL:https://theriverboston.com
X-WR-CALDESC:Events for 92.5 the River
BEGIN:VTIMEZONE
TZID:America/New_York
BEGIN:DAYLIGHT
TZOFFSETFROM:-0500
TZOFFSETTO:-0400
TZNAME:EDT
DTSTART:20200308T070000
END:DAYLIGHT
BEGIN:STANDARD
TZOFFSETFROM:-0400
TZOFFSETTO:-0500
TZNAME:EST
DTSTART:20201101T060000
END:STANDARD
END:VTIMEZONE
BEGIN:VEVENT
DTSTART;TZID=America/New_York:20200201T190000
DTEND;TZID=America/New_York:20200201T190000
DTSTAMP:20260423T120338
CREATED:20190917T172409Z
LAST-MODIFIED:20191003T181738Z
UID:210488-1580583600-1580583600@theriverboston.com
SUMMARY:Cold War Kids at House of Blues!
DESCRIPTION:Just Announced – Cold War Kids are coming to the House of Blues 2/1 for the release of their new album\, New Age Norms\, out 11/1! Tickets on sale now.
URL:https://theriverboston.com/events/cold-war-kids-at-house-of-blues/
LOCATION:House of Blues Boston\, 15 Landsdowne Street\, Boston\, MA\, 02215\, United States
END:VEVENT
END:VCALENDAR