BEGIN:VCALENDAR
VERSION:2.0
PRODID:-//92.5 the River - ECPv5.16.3.1//NONSGML v1.0//EN
CALSCALE:GREGORIAN
METHOD:PUBLISH
X-WR-CALNAME:92.5 the River
X-ORIGINAL-URL:https://theriverboston.com
X-WR-CALDESC:Events for 92.5 the River
BEGIN:VTIMEZONE
TZID:America/New_York
BEGIN:DAYLIGHT
TZOFFSETFROM:-0500
TZOFFSETTO:-0400
TZNAME:EDT
DTSTART:20250309T070000
END:DAYLIGHT
BEGIN:STANDARD
TZOFFSETFROM:-0400
TZOFFSETTO:-0500
TZNAME:EST
DTSTART:20251102T060000
END:STANDARD
END:VTIMEZONE
BEGIN:VEVENT
DTSTART;TZID=America/New_York:20250809T200000
DTEND;TZID=America/New_York:20250809T200000
DTSTAMP:20260423T044008
CREATED:20250529T140423Z
LAST-MODIFIED:20250529T140423Z
UID:227530-1754769600-1754769600@theriverboston.com
SUMMARY:Colin Jost @ MGM Music Hall at Fenway
DESCRIPTION:Colin Jost | Saturday\, August 9th \nDoors: 7 pm | Show: 8 pm \nColin Jost is a renowned comedian\, writer\, and actor most recognized for his “Weekend Update” segment alongside Michael Che for Saturday Night Live.  In addition to his work on SNL\, Jost has a slew of Writers Guild Awards\, Emmy nominations\, and Peabody Awards to his name.  Jost’s memoir\, A Very Punchable Face\, also chronicles events such as growing up in a firefighter family and going to Harvard when Facebook was created.  Be prepared for a night filled with laughs by this master of comedy at MGM Music Hall at Fenway! \nGet tickets here!
URL:https://theriverboston.com/events/colin-jost-mgm/
LOCATION:MGM Music Hall at Fenway\, 2 Lansdowne Street\, Boston\, MA\, 02215\, United States
END:VEVENT
END:VCALENDAR