BEGIN:VCALENDAR
VERSION:2.0
PRODID:-//92.5 the River - ECPv5.16.3.1//NONSGML v1.0//EN
CALSCALE:GREGORIAN
METHOD:PUBLISH
X-WR-CALNAME:92.5 the River
X-ORIGINAL-URL:https://theriverboston.com
X-WR-CALDESC:Events for 92.5 the River
BEGIN:VTIMEZONE
TZID:America/New_York
BEGIN:DAYLIGHT
TZOFFSETFROM:-0500
TZOFFSETTO:-0400
TZNAME:EDT
DTSTART:20150308T070000
END:DAYLIGHT
BEGIN:STANDARD
TZOFFSETFROM:-0400
TZOFFSETTO:-0500
TZNAME:EST
DTSTART:20151101T060000
END:STANDARD
END:VTIMEZONE
BEGIN:VEVENT
DTSTART;TZID=America/New_York:20150821T120000
DTEND;TZID=America/New_York:20150821T140000
DTSTAMP:20260419T225723
CREATED:20150804T171156Z
LAST-MODIFIED:20150804T171156Z
UID:8112-1440158400-1440165600@theriverboston.com
SUMMARY:Come to The Stove Shoppe in Windham
DESCRIPTION:Come to The Stove Shoppe in Windham\, NH \n\nCome join us at The Stove Shoppe & Fences in Windham\, NH on Saturday\, August 22 @ 12pm!
URL:https://theriverboston.com/events/come-to-the-stove-shoppe-in-windham/
LOCATION:The Stove Shoppe\, 25 Indian Rock Rd 111\, Windham\, NH\, 03087\, United States
END:VEVENT
END:VCALENDAR