BEGIN:VCALENDAR
VERSION:2.0
PRODID:-//92.5 the River - ECPv5.16.3.1//NONSGML v1.0//EN
CALSCALE:GREGORIAN
METHOD:PUBLISH
X-WR-CALNAME:92.5 the River
X-ORIGINAL-URL:https://theriverboston.com
X-WR-CALDESC:Events for 92.5 the River
BEGIN:VTIMEZONE
TZID:America/New_York
BEGIN:DAYLIGHT
TZOFFSETFROM:-0500
TZOFFSETTO:-0400
TZNAME:EDT
DTSTART:20250309T070000
END:DAYLIGHT
BEGIN:STANDARD
TZOFFSETFROM:-0400
TZOFFSETTO:-0500
TZNAME:EST
DTSTART:20251102T060000
END:STANDARD
END:VTIMEZONE
BEGIN:VEVENT
DTSTART;TZID=America/New_York:20250709T190000
DTEND;TZID=America/New_York:20250709T213000
DTSTAMP:20260419T112946
CREATED:20250520T160427Z
LAST-MODIFIED:20250520T160928Z
UID:227378-1752087600-1752096600@theriverboston.com
SUMMARY:Couch @ Prescott Park Arts Festival
DESCRIPTION:Boston-based band Couch injects each project with their signature flavor: expressive horns\, warm vocals\, and bubbling synths—crafting an oasis of joy for musicians and non-musicians alike. After a 40-city US headline tour in 2023 and performances at Boston Calling and Levitate\, plus a sold-out UK tour\, Couch opened for Cory Wong (Vulfpeck/Fearless Flyers) on his 38-city US and European tour this past Fall & Winter. Couch recently announced their largest headline shows yet\, including stops in Boston (Roadrunner)\, New York (Brooklyn Steel)\, and Washington D.C. (9:30 Club) and now bring their vibrant upbeat sound to Prescott Park. \nHeld throughout the summer all performances take place on the Wilcox Main Stage in beautiful\, waterfront Prescott Park for an optional $15 suggested donation.
URL:https://theriverboston.com/events/couch-prescott-park/
LOCATION:Prescott Park\, 105 Marcy Street\, Portsmouth\, NH\, 03801\, United States
END:VEVENT
END:VCALENDAR