BEGIN:VCALENDAR
VERSION:2.0
PRODID:-//92.5 the River - ECPv5.16.3.1//NONSGML v1.0//EN
CALSCALE:GREGORIAN
METHOD:PUBLISH
X-WR-CALNAME:92.5 the River
X-ORIGINAL-URL:https://theriverboston.com
X-WR-CALDESC:Events for 92.5 the River
BEGIN:VTIMEZONE
TZID:America/New_York
BEGIN:DAYLIGHT
TZOFFSETFROM:-0500
TZOFFSETTO:-0400
TZNAME:EDT
DTSTART:20250309T070000
END:DAYLIGHT
BEGIN:STANDARD
TZOFFSETFROM:-0400
TZOFFSETTO:-0500
TZNAME:EST
DTSTART:20251102T060000
END:STANDARD
END:VTIMEZONE
BEGIN:VEVENT
DTSTART;TZID=America/New_York:20250925T193000
DTEND;TZID=America/New_York:20250925T230000
DTSTAMP:20260422T182049
CREATED:20250908T173958Z
LAST-MODIFIED:20250908T174111Z
UID:228741-1758828600-1758841200@theriverboston.com
SUMMARY:Cowboy Junkies @ Boch Center Shubert Theater
DESCRIPTION:Cowboy Junkies | Thursday\, September 25th\nBoch Center Shubert Theater | Boston\, MA | 7:30pm\nCowboy Junkies will be preforming a career-spanning show at Shubert Theater in Boston on September 25th – from “The Trinity Session” to their recent album\, “Such Ferocious Beauty”. The classic band combined folk\, blues and rock in a way that had never been heard before and went on to sell more than million copies and define the 80s. \nMore Information!
URL:https://theriverboston.com/events/cowboy-junkies-boch-center-wang-theater/
LOCATION:Boch Center Shubert Theatre\, 265 Tremont Street\, Boston\, MA\, 02116\, United States
END:VEVENT
END:VCALENDAR