BEGIN:VCALENDAR
VERSION:2.0
PRODID:-//92.5 the River - ECPv5.16.3.1//NONSGML v1.0//EN
CALSCALE:GREGORIAN
METHOD:PUBLISH
X-WR-CALNAME:92.5 the River
X-ORIGINAL-URL:https://theriverboston.com
X-WR-CALDESC:Events for 92.5 the River
BEGIN:VTIMEZONE
TZID:America/New_York
BEGIN:DAYLIGHT
TZOFFSETFROM:-0500
TZOFFSETTO:-0400
TZNAME:EDT
DTSTART:20220313T070000
END:DAYLIGHT
BEGIN:STANDARD
TZOFFSETFROM:-0400
TZOFFSETTO:-0500
TZNAME:EST
DTSTART:20221106T060000
END:STANDARD
END:VTIMEZONE
BEGIN:VEVENT
DTSTART;TZID=America/New_York:20220204T200000
DTEND;TZID=America/New_York:20220204T200000
DTSTAMP:20260420T105924
CREATED:20220110T202854Z
LAST-MODIFIED:20220111T202332Z
UID:215480-1644004800-1644004800@theriverboston.com
SUMMARY:Cowboy Junkies @ The Historic Theater
DESCRIPTION:Cowboy Junkies Live from Portsmouth\, NH!\n\nContinuing the “Intimately Yours” series\, Cowboy Junkies will be visiting the Historic Theater!\nIn 1988\, Cowboy Junkies proved that there was an audience waiting for something quiet\, beautiful and reflective. The Trinity Session stood out in the midst of the flash and bombast that came to define the late 80s. The now classic recording combined folk\, blues and rock in a way that had never been heard before. \nFor more information\, click here  \nCOVID-19 Policy: Before entering the building\, everyone must wear masks\, per the City of Portsmouth mandate\, in addition to showing proof of vaccination OR a negative test for live events.
URL:https://theriverboston.com/events/cowboy-junkies-the-historic-theater/
LOCATION:The Historic Theater\, 28 Chestnut Street\, Portsmouth\, NH\, 03801\, United States
END:VEVENT
END:VCALENDAR