BEGIN:VCALENDAR
VERSION:2.0
PRODID:-//92.5 the River - ECPv5.16.3.1//NONSGML v1.0//EN
CALSCALE:GREGORIAN
METHOD:PUBLISH
X-WR-CALNAME:92.5 the River
X-ORIGINAL-URL:https://theriverboston.com
X-WR-CALDESC:Events for 92.5 the River
BEGIN:VTIMEZONE
TZID:America/New_York
BEGIN:DAYLIGHT
TZOFFSETFROM:-0500
TZOFFSETTO:-0400
TZNAME:EDT
DTSTART:20250309T070000
END:DAYLIGHT
BEGIN:STANDARD
TZOFFSETFROM:-0400
TZOFFSETTO:-0500
TZNAME:EST
DTSTART:20251102T060000
END:STANDARD
END:VTIMEZONE
BEGIN:VEVENT
DTSTART;TZID=America/New_York:20250926T200000
DTEND;TZID=America/New_York:20250926T200000
DTSTAMP:20260422T141900
CREATED:20250813T164857Z
LAST-MODIFIED:20250813T165031Z
UID:228475-1758916800-1758916800@theriverboston.com
SUMMARY:Cowboy Junkies @ Tupelo
DESCRIPTION:VIEW/BUY TICKETS\nCowboy Junkies will be performing a career-spanning show from The Trinity Session to their recent album\, Such Ferocious Beauty!\nSometimes revolutions begin quietly. \nIn 1988\, Cowboy Junkies proved that there was an audience waiting for something quiet\, beautiful and reflective. The Trinity Session was like a whisper that cut through the noise — and it was compelling. It stood out in the midst of the flash and bombast that came to define the late 80’s. The now classic recording combined folk\, blues and rock in a way that had never been heard before and went on to sell more than a million copies. \nFormed in Toronto in 1985 with siblings Michael Timmins on guitar\, Margo Timmins on vocals\, Peter Timmins on drums\, and Michael’s lifelong friend Alan Anton on bass\, the band has sparkled over the course of 29 albums. “I’ve known Alan longer than I’ve known Pete\,” says Michael. “We were friends before Pete was born.” \nUnlike most long-lasting groups\, Cowboy Junkies have never had a break up or taken a sanity-saving hiatus. There’s an appreciation of each other that keeps them constantly working. “It’s that intimacy and understanding of what each one of us brings to the table\,” says Michael. Cowboy Junkies’ will be performing a career-spanning show\, including their new album\, ‘Such Ferocious Beauty’\, which was released worldwide on June 2\, 2023 to universal critical acclaim. \n  \n\nFIND MORE SHOWS AT TUPELO MUSIC HALL
URL:https://theriverboston.com/events/cowboy-junkies-tupelo/
LOCATION:Tupelo Music Hall\, 10 A Street\, Derry\, NH\, 03038\, United States
END:VEVENT
END:VCALENDAR