BEGIN:VCALENDAR
VERSION:2.0
PRODID:-//92.5 the River - ECPv5.16.3.1//NONSGML v1.0//EN
CALSCALE:GREGORIAN
METHOD:PUBLISH
X-WR-CALNAME:92.5 the River
X-ORIGINAL-URL:https://theriverboston.com
X-WR-CALDESC:Events for 92.5 the River
BEGIN:VTIMEZONE
TZID:America/New_York
BEGIN:DAYLIGHT
TZOFFSETFROM:-0500
TZOFFSETTO:-0400
TZNAME:EDT
DTSTART:20160313T070000
END:DAYLIGHT
BEGIN:STANDARD
TZOFFSETFROM:-0400
TZOFFSETTO:-0500
TZNAME:EST
DTSTART:20161106T060000
END:STANDARD
END:VTIMEZONE
BEGIN:VEVENT
DTSTART;TZID=America/New_York:20160819T170000
DTEND;TZID=America/New_York:20160819T210000
DTSTAMP:20260419T230757
CREATED:20160712T162811Z
LAST-MODIFIED:20160712T162811Z
UID:15448-1471626000-1471640400@theriverboston.com
SUMMARY:Cruise Night at Kimball Farm!
DESCRIPTION:
URL:https://theriverboston.com/events/cruise-night-kimball-farm-4/
LOCATION:Kimball Farm\, 158 Turnpike Road\, Jaffrey\, NH\, 03452\, United States
END:VEVENT
END:VCALENDAR