BEGIN:VCALENDAR
VERSION:2.0
PRODID:-//92.5 the River - ECPv5.16.3.1//NONSGML v1.0//EN
CALSCALE:GREGORIAN
METHOD:PUBLISH
X-WR-CALNAME:92.5 the River
X-ORIGINAL-URL:https://theriverboston.com
X-WR-CALDESC:Events for 92.5 the River
BEGIN:VTIMEZONE
TZID:America/New_York
BEGIN:DAYLIGHT
TZOFFSETFROM:-0500
TZOFFSETTO:-0400
TZNAME:EDT
DTSTART:20150308T070000
END:DAYLIGHT
BEGIN:STANDARD
TZOFFSETFROM:-0400
TZOFFSETTO:-0500
TZNAME:EST
DTSTART:20151101T060000
END:STANDARD
END:VTIMEZONE
BEGIN:VEVENT
DTSTART;TZID=America/New_York:20150829T120000
DTEND;TZID=America/New_York:20150829T140000
DTSTAMP:20260419T113441
CREATED:20150818T133937Z
LAST-MODIFIED:20150818T134513Z
UID:8216-1440849600-1440856800@theriverboston.com
SUMMARY:Customer Appreciation Day at Sullivan Tire in Watertown!
DESCRIPTION:Join the River at Sullivan Tire’s Customer Appreciation Day!\nGuests will enjoy FREE Pizza from Sweet Tomatoes Pizza in Newton (while supplies last). The River Street Team will be playing music and giving away tons of prizes\, including a pair of Sox tickets\, a $100 Sullivan Tire gift card\, AND… \nevery 15 minutes someone will win a pair of Newburyport Riverfront Festival VIP Passes! \n\nCome join the River Street Team\, and receive great deals on auto service\, plus buy 3 get 1 free on Yokohama and other select tires (through August 31st). LEARN MORE!\n 
URL:https://theriverboston.com/events/customer-appreciation-day-at-sullivan-tire-in-watertown/
LOCATION:Sullivan Tire\, 21 N Beacon Street\, Watertown\, MA\, 02472\, United States
END:VEVENT
END:VCALENDAR