BEGIN:VCALENDAR
VERSION:2.0
PRODID:-//92.5 the River - ECPv5.16.3.1//NONSGML v1.0//EN
CALSCALE:GREGORIAN
METHOD:PUBLISH
X-WR-CALNAME:92.5 the River
X-ORIGINAL-URL:https://theriverboston.com
X-WR-CALDESC:Events for 92.5 the River
BEGIN:VTIMEZONE
TZID:America/New_York
BEGIN:DAYLIGHT
TZOFFSETFROM:-0500
TZOFFSETTO:-0400
TZNAME:EDT
DTSTART:20170312T070000
END:DAYLIGHT
BEGIN:STANDARD
TZOFFSETFROM:-0400
TZOFFSETTO:-0500
TZNAME:EST
DTSTART:20171105T060000
END:STANDARD
END:VTIMEZONE
BEGIN:VEVENT
DTSTART;TZID=America/New_York:20170610T200000
DTEND;TZID=America/New_York:20170610T230000
DTSTAMP:20260425T150310
CREATED:20170420T191331Z
LAST-MODIFIED:20170420T201233Z
UID:42349-1497124800-1497135600@theriverboston.com
SUMMARY:Daisy Jopling at 9 Wallis in Beverly
DESCRIPTION:Don’t miss\nDaisy Jopling LIVE\n\nOne night only at Beverly’s newest venue: 9 Wallis\nView/Buy Tickets \nAbout Daisy Jopling: Genre-bending Daisy Jopling is on a mission to infect us all with the joy and power of music. She plays her originals\, blending classical\, pop\, reggae\, Irish folk\, gypsy violin and rock\, alongside her own arrangements of great classical & classic Rock pieces.\nRead More 
URL:https://theriverboston.com/events/daisy-jopling-9-wallis-beverly/
LOCATION:9 Wallis\, 9 Wallis Street\, Beverly\, MA\, 01915\, United States
END:VEVENT
END:VCALENDAR