BEGIN:VCALENDAR
VERSION:2.0
PRODID:-//92.5 the River - ECPv5.16.3.1//NONSGML v1.0//EN
CALSCALE:GREGORIAN
METHOD:PUBLISH
X-WR-CALNAME:92.5 the River
X-ORIGINAL-URL:https://theriverboston.com
X-WR-CALDESC:Events for 92.5 the River
BEGIN:VTIMEZONE
TZID:America/New_York
BEGIN:DAYLIGHT
TZOFFSETFROM:-0500
TZOFFSETTO:-0400
TZNAME:EDT
DTSTART:20250309T070000
END:DAYLIGHT
BEGIN:STANDARD
TZOFFSETFROM:-0400
TZOFFSETTO:-0500
TZNAME:EST
DTSTART:20251102T060000
END:STANDARD
END:VTIMEZONE
BEGIN:VEVENT
DTSTART;TZID=America/New_York:20250628T193000
DTEND;TZID=America/New_York:20250628T193000
DTSTAMP:20260419T084246
CREATED:20250605T133856Z
LAST-MODIFIED:20250605T133856Z
UID:227622-1751139000-1751139000@theriverboston.com
SUMMARY:Darlene Love @ Lowell Summer Music Series
DESCRIPTION:Darlene Love | Saturday\, June 28th \nShow: 7:30 pm \nRock and roll legend Darlene Love is headed to the Lowell Summer Music Series to perform songs such as “He’s A Rebel” and “He’s Sure the Boy I Love”.  This Grammy and Oscar Award-winning powerhouse in no stranger to high-energy performances and breathing life into her 60s hits.  You will love seeing Darlene Love in the flesh so be sure to snag your tickets! \nGet tickets here!
URL:https://theriverboston.com/events/darlene-love-lowell-summer/
LOCATION:Lowell Summer Music Series\, 40 French Street\, Lowell\, MA\, 01852\, United States
END:VEVENT
END:VCALENDAR