BEGIN:VCALENDAR
VERSION:2.0
PRODID:-//92.5 the River - ECPv5.16.3.1//NONSGML v1.0//EN
CALSCALE:GREGORIAN
METHOD:PUBLISH
X-WR-CALNAME:92.5 the River
X-ORIGINAL-URL:https://theriverboston.com
X-WR-CALDESC:Events for 92.5 the River
BEGIN:VTIMEZONE
TZID:America/New_York
BEGIN:DAYLIGHT
TZOFFSETFROM:-0500
TZOFFSETTO:-0400
TZNAME:EDT
DTSTART:20250309T070000
END:DAYLIGHT
BEGIN:STANDARD
TZOFFSETFROM:-0400
TZOFFSETTO:-0500
TZNAME:EST
DTSTART:20251102T060000
END:STANDARD
END:VTIMEZONE
BEGIN:VEVENT
DTSTART;TZID=America/New_York:20250806T190000
DTEND;TZID=America/New_York:20250806T190000
DTSTAMP:20260422T154524
CREATED:20250522T160846Z
LAST-MODIFIED:20250522T160943Z
UID:227449-1754506800-1754506800@theriverboston.com
SUMMARY:Darlingside: River House Concert Series
DESCRIPTION:Darlingside | Wednesday\, August 6th \nLocation: Wilcox Main Stage\, Prescott Park\, Portsmouth\, NH \nShow: 7 pm \nCritically acclaimed for their lush harmonies and cinematic songwriting\, Darlingside brings their rich\, textured folk-pop to the River House Restaurant Concert Series. Their sound is both timeless and forward-looking\, offering an evening of music that’s as intimate as it is expansive. Don’t miss this magical night of artistry under the stars along the beautiful Piscataqua River. \nNo tickets required – just bring a blanket or lawn chair and enjoy the show! Optional Reservations for VIP tables and premium blanket spots are available and go live soon: \n\nSeason Passholders: Thursday\, May 22 at 10am\nGeneral Public: Tuesday\, May 27 at 10am\n\nSuggested donation: $15 to help keep the arts accessible for all. \nPrescott Park is the place to be this summer – and you don’t want to miss Darlingside! \nFREE and open to the public \nOfficial website here!
URL:https://theriverboston.com/events/darlingside-rhcs/
LOCATION:Prescott Park\, 105 Marcy Street\, Portsmouth\, NH\, 03801\, United States
END:VEVENT
END:VCALENDAR